BEGIN:VCALENDAR
VERSION:2.0
PRODID:-//wp-events-plugin.com//7.0.4//EN
TZID:America/Chicago
X-WR-TIMEZONE:America/Chicago
BEGIN:VEVENT
UID:3@asdfw.org
DTSTART;TZID=America/Chicago:20191013T160000
DTEND;TZID=America/Chicago:20191013T220000
DTSTAMP:20190914T184305Z
URL:https://www.asdfw.org/events/maharaj-agrasen-jayanti/
SUMMARY:Maharaj Agrasen Jayanti
DESCRIPTION:\n\nYou must be a member of Agrawal Samaj of DFW to attend even
 ts: Become a Member\n\nDear ASDFW Members\,\nASDFW invites you to celebrat
 e Maharaja Agrasen Jayanti 2019 on Sunday\, Oct 13th.\n\nEvent Location:\n
 DFW Hindu Temple\n1605 N Britain Rd\,\nIrving\, TX\, 75061\n\nTicket Price
 s (Lifetime &amp\; Premium Members get 25% Discount) :\n\nLifetime &amp\; 
 Premium Members (25% Discount)\n Youth(5-12 yrs) Adult \nEarly Bird Specia
 l(until Sept 16th) $15 $20\nRegular Ticket Prices(Sept 17th – Oct 7th) $
 18 $24\nLast Min/Gate Reg.(Oct 7th onwards) $23 $30\n\nBasic Members\n You
 th(5-12 yrs) Adult \nEarly Bird Special(until Sept 16th) $20 $26\nRegular 
 Ticket Prices(Sept 17th – Oct 7th) $24 $32\nLast Min/Gate Reg.(Oct 7th o
 nwards) $30 $40\n\nNo tickets needed for Kids under 5\nTicket price covers
  Appetizers\, Dinner\, Venue Cost\, Supplies and Car Parking\nAll tickets 
 are non-refundable\nSuggested Dress Code : Traditional &amp\; Festive !!\n
 No smoking and drinking allowed per ASDFW charter\nASDFW discourages publi
 c posting of event photos on social media networks\, except on the private
  ASDFW facebook group\n\nIf you haven’t already responded about your par
 ticipation in the cultural program please respond soon to the email from C
 ultural Committee with details.\n\nPurchase Tickets :-\nTicket Type Price 
 Cart\nMaharaja Agrasen Jayanti 2019 - Adults Tickets - Early Bird $26\nMah
 araja Agrasen Jayanti 2019 – Kids Ticket (Age5-12) – Early Bird $20\n\
 nAnother way to support your Samaj is by becoming a Sponsor. To learn abou
 t various levels of sponsorship (Bronze\, Silver\, Gold and Platinum) and 
 their benefits\, please contact the ASDFW Treasurer – Parul Agrawal at t
 reasurer@asdfw.org or &lt\;+1-469-223-4312&gt\;.\n\n‘Aap ki Patrika’ i
 s our Samaj annual magazine and distributed at the Maharaja Agrasen Jayant
 i celebration\, which is our signature event. Please send your sponsorship
 \, achievements\, announcements and any Kavita (written by you) to be publ
 ished in the Patrika. Content can be in English or Hindi. The deadline is 
 September 30th\, so please rush your content to the Communications Committ
 ee &lt\;asdfw-com@googlegroups.com&gt\;\n\nVolunteers are always Welcome a
 nd Needed! All our events are made possible by our active members and volu
 nteers. If you would like to be involved in planning and/or volunteering f
 or this event\, please reach out per below. Your involvement and help in a
 ny way is greatly appreciated by the Samaj.\nEvent venue setup\, logistics
 \, food coordination\, photography/video – please email the Events Commi
 ttee &lt\;asdfw-eve@googlegroups.com&gt\;\nCultural program support\, chor
 eography\, backstage support – please email the Cultural Committee &lt\;
 asdfw-cul@googlegroups.com&gt\;
LOCATION:DFW Hindu Temple\, 1605 N Britain Rd\, Irving\, TX\, 75061\, Unite
 d States
X-APPLE-STRUCTURED-LOCATION;VALUE=URI;X-ADDRESS=1605 N Britain Rd\, Irving\
 , TX\, 75061\, United States;X-APPLE-RADIUS=100;X-TITLE=DFW Hindu Temple:g
 eo:0,0
END:VEVENT
BEGIN:VEVENT
UID:4@asdfw.org
DTSTART;TZID=America/Chicago:20230416T110000
DTEND;TZID=America/Chicago:20230416T153000
DTSTAMP:20240304T052106Z
URL:https://www.asdfw.org/events/vasant-2023/
SUMMARY:Vasant 2023
DESCRIPTION:
END:VEVENT
BEGIN:VEVENT
UID:5@asdfw.org
DTSTART;TZID=America/Chicago:20240320T110000
DTEND;TZID=America/Chicago:20240420T153000
DTSTAMP:20240304T235428Z
URL:https://www.asdfw.org/events/satrangivibes-2024/
SUMMARY:Satrangi Vibes
DESCRIPTION:
END:VEVENT
BEGIN:VTIMEZONE
TZID:America/Chicago
X-LIC-LOCATION:America/Chicago
BEGIN:DAYLIGHT
DTSTART:20190310T030000
TZOFFSETFROM:-0600
TZOFFSETTO:-0500
TZNAME:CDT
END:DAYLIGHT
BEGIN:STANDARD
DTSTART:20191103T010000
TZOFFSETFROM:-0500
TZOFFSETTO:-0600
TZNAME:CST
END:STANDARD
BEGIN:DAYLIGHT
DTSTART:20200308T030000
TZOFFSETFROM:-0600
TZOFFSETTO:-0500
TZNAME:CDT
END:DAYLIGHT
BEGIN:STANDARD
DTSTART:20201101T010000
TZOFFSETFROM:-0500
TZOFFSETTO:-0600
TZNAME:CST
END:STANDARD
BEGIN:DAYLIGHT
DTSTART:20210314T030000
TZOFFSETFROM:-0600
TZOFFSETTO:-0500
TZNAME:CDT
END:DAYLIGHT
BEGIN:STANDARD
DTSTART:20211107T010000
TZOFFSETFROM:-0500
TZOFFSETTO:-0600
TZNAME:CST
END:STANDARD
BEGIN:DAYLIGHT
DTSTART:20220313T030000
TZOFFSETFROM:-0600
TZOFFSETTO:-0500
TZNAME:CDT
END:DAYLIGHT
BEGIN:STANDARD
DTSTART:20221106T010000
TZOFFSETFROM:-0500
TZOFFSETTO:-0600
TZNAME:CST
END:STANDARD
BEGIN:DAYLIGHT
DTSTART:20230312T030000
TZOFFSETFROM:-0600
TZOFFSETTO:-0500
TZNAME:CDT
END:DAYLIGHT
BEGIN:STANDARD
DTSTART:20231105T010000
TZOFFSETFROM:-0500
TZOFFSETTO:-0600
TZNAME:CST
END:STANDARD
BEGIN:DAYLIGHT
DTSTART:20240310T030000
TZOFFSETFROM:-0600
TZOFFSETTO:-0500
TZNAME:CDT
END:DAYLIGHT
END:VTIMEZONE
END:VCALENDAR